BEGIN:VCALENDAR
VERSION:2.0
PRODID:-//ChamberMaster//Event Calendar 2.0//EN
METHOD:PUBLISH
X-PUBLISHED-TTL:P1H
REFRESH-INTERVAL:P1H
CALSCALE:GREGORIAN
BEGIN:VTIMEZONE
TZID:America/New_York
BEGIN:DAYLIGHT
RRULE:FREQ=YEARLY;BYMONTH=3;BYDAY=2SU
DTSTART:20070101T000000
TZOFFSETFROM:-0500
TZOFFSETTO:-0400
TZNAME:Eastern Daylight Time
END:DAYLIGHT
BEGIN:STANDARD
RRULE:FREQ=YEARLY;BYMONTH=11;BYDAY=1SU
DTSTART:20070101T000000
TZOFFSETFROM:-0400
TZOFFSETTO:-0500
TZNAME:Eastern Standard Time
END:STANDARD
END:VTIMEZONE
BEGIN:VEVENT
DTSTART;TZID=America/New_York:20260428T080000
DTEND;TZID=America/New_York:20260428T090000
X-MICROSOFT-CDO-ALLDAYEVENT:FALSE
SUMMARY:Transformational Tuesday ~ The Profit Leak No One Sees
DESCRIPTION:Join the Solid Waste Authority of Palm Beach County's Equal Business Opportunity team for a small business development seminar. These monthly Transformational Tuesdays are to engage our small business leaders to rethink their habits\, learn innovative strategies\, and get ready for a new way of thinking that will propel them to the next level. But it is more than just a training. It’s a powerful mental reset for professionals\, leaders and business owners. \n\nThis month's topic focuses on the profit leak that no one sees. The presenter\, Financial Consultant Timothy Wingate\, Jr.\, will discuss how:\n•	You can hit your numbers and still feel broke\n•	A “40% markup” does not mean what you think it means\n•	Your business can be profitable on paper and sill lose money in reality\n\nYou can get caught up on past Transformational Tuesdays at https://www.youtube.com/playlist?list=PLoU9K8zkQXWTxx_CL-7SeTMzGNjNQSzvs. Topics discussed so far this year include:\n•	March – Building leaders from the inside out\n•	February – Strategic leadership and culture\n•	January - Building smarter businesses through leadership\, innovation and service\nRegister at https://swa.gob2g.com/FrontEnd/EventList.asp?TN=swa&XID=7050
X-ALT-DESC;FMTTYPE=text/html:Join the Solid Waste Authority of Palm Beach County's Equal Business Opportunity team for a small business development seminar. These monthly Transformational Tuesdays are to engage our small business leaders to rethink their habits\, learn innovative strategies\, and get ready for a new way of thinking that will propel them to the next level. But it is more than just a training. It’s a powerful mental reset for professionals\, leaders and business owners. \n\nThis month's topic focuses on the profit leak that no one sees. The presenter\, Financial Consultant Timothy Wingate\, Jr.\, will discuss how:\n•	You can hit your numbers and still feel broke\n•	A “40% markup” does not mean what you think it means\n•	Your business can be profitable on paper and sill lose money in reality\n\nYou can get caught up on past Transformational Tuesdays at https://www.youtube.com/playlist?list=PLoU9K8zkQXWTxx_CL-7SeTMzGNjNQSzvs. Topics discussed so far this year include:\n•	March – Building leaders from the inside out\n•	February – Strategic leadership and culture\n•	January - Building smarter businesses through leadership\, innovation and service\nRegister at https://swa.gob2g.com/FrontEnd/EventList.asp?TN=swa&XID=7050
LOCATION:7501 N. Jog Road West Palm Beach FL 33412
UID:e.4383.1445250
SEQUENCE:3
DTSTAMP:20260421T203923Z
URL:https://business.bocachamber.com/boyntoneventcalendar/Details/transformational-tuesday-the-profit-leak-no-one-sees-1711752?sourceTypeId=Hub
END:VEVENT
END:VCALENDAR
