BEGIN:VCALENDAR
VERSION:2.0
PRODID:-//ChamberMaster//Event Calendar 2.0//EN
METHOD:PUBLISH
X-PUBLISHED-TTL:P1H
REFRESH-INTERVAL:P1H
CALSCALE:GREGORIAN
BEGIN:VTIMEZONE
TZID:America/New_York
BEGIN:DAYLIGHT
RRULE:FREQ=YEARLY;BYMONTH=3;BYDAY=2SU
DTSTART:20070101T000000
TZOFFSETFROM:-0500
TZOFFSETTO:-0400
TZNAME:Eastern Daylight Time
END:DAYLIGHT
BEGIN:STANDARD
RRULE:FREQ=YEARLY;BYMONTH=11;BYDAY=1SU
DTSTART:20070101T000000
TZOFFSETFROM:-0400
TZOFFSETTO:-0500
TZNAME:Eastern Standard Time
END:STANDARD
END:VTIMEZONE
BEGIN:VEVENT
DTSTART;TZID=America/New_York:20260626T080000
DTEND;TZID=America/New_York:20260626T120000
X-MICROSOFT-CDO-ALLDAYEVENT:FALSE
SUMMARY:SWA Business PowerNet Conference 2026
DESCRIPTION:Join the Solid Waste Authority of Palm Beach County for a networking opportunity to learn how to do business with local governmental agencies. Following breakfast\, attendees will learn about upcoming SWA business opportunities\, how to register as a vendor to get government contracts\, and how to participate in the SWA's Equal Business Opportunity program. There will be three networking breakout sessions focusing on professional services\, goods/services and construction.
X-ALT-DESC;FMTTYPE=text/html:<!DOCTYPE html><html><head><title></title></head><body aria-disabled="false"><p>Join the Solid Waste Authority of Palm Beach County for a networking opportunity to learn how to do business with local governmental agencies. Following breakfast\, attendees will learn about upcoming SWA business opportunities\, how to register as a vendor to get government contracts\, and how to participate in the SWA&rsquo\;s Equal Business Opportunity program. There will be three networking breakout sessions focusing on professional services\, goods/services and construction.</p></body></html>
LOCATION:1601 Belvedere Road West Palm Beach FL 33406
UID:e.4383.1445244
SEQUENCE:3
DTSTAMP:20260421T203924Z
URL:https://business.bocachamber.com/boyntoneventcalendar/Details/swa-business-powernet-conference-2026-1711747?sourceTypeId=Hub
END:VEVENT
END:VCALENDAR
