BEGIN:VCALENDAR
VERSION:2.0
PRODID:-//ChamberMaster//Event Calendar 2.0//EN
METHOD:PUBLISH
X-PUBLISHED-TTL:P1H
REFRESH-INTERVAL:P1H
CALSCALE:GREGORIAN
BEGIN:VTIMEZONE
TZID:America/New_York
BEGIN:DAYLIGHT
RRULE:FREQ=YEARLY;BYMONTH=3;BYDAY=2SU
DTSTART:20070101T000000
TZOFFSETFROM:-0500
TZOFFSETTO:-0400
TZNAME:Eastern Daylight Time
END:DAYLIGHT
BEGIN:STANDARD
RRULE:FREQ=YEARLY;BYMONTH=11;BYDAY=1SU
DTSTART:20070101T000000
TZOFFSETFROM:-0400
TZOFFSETTO:-0500
TZNAME:Eastern Standard Time
END:STANDARD
END:VTIMEZONE
BEGIN:VEVENT
DTSTART;TZID=America/New_York:20260412T110000
DTEND;TZID=America/New_York:20260412T140000
X-MICROSOFT-CDO-ALLDAYEVENT:FALSE
SUMMARY:Autism Awareness Celebration
DESCRIPTION:Join us for a day of connection\, community and celebration! We will have a special guest\, Dr. Shirley Sims. Dr. Sims is a advocate and author who is passionate about supporting children and families on the spectrum.\nLite bites\, fun activities\, clinic tour and gain valuable knowledge and resources.
X-ALT-DESC;FMTTYPE=text/html:<!DOCTYPE html><html><head><title></title></head><body aria-disabled="false"><p>Join us for a day of connection\, community and celebration! We will have a special guest\, Dr. Shirley Sims. Dr. Sims is a advocate and author who is passionate about supporting children and families on the spectrum.</p><p><br></p><p>Lite bites\, fun activities\, clinic tour and gain valuable knowledge and resources.</p></body></html>
LOCATION:7000 W Palmetto Park Rd 6th Floor Boca Raton FL 33433
UID:e.4383.1429593
SEQUENCE:3
DTSTAMP:20260421T203736Z
URL:https://business.bocachamber.com/boyntoneventcalendar/Details/autism-awareness-celebration-1691109?sourceTypeId=Hub
END:VEVENT
END:VCALENDAR
