BEGIN:VCALENDAR
VERSION:2.0
PRODID:-//ChamberMaster//Event Calendar 2.0//EN
METHOD:PUBLISH
X-PUBLISHED-TTL:P1H
REFRESH-INTERVAL:P1H
CALSCALE:GREGORIAN
BEGIN:VTIMEZONE
TZID:America/New_York
BEGIN:DAYLIGHT
RRULE:FREQ=YEARLY;BYMONTH=3;BYDAY=2SU
DTSTART:20070101T000000
TZOFFSETFROM:-0500
TZOFFSETTO:-0400
TZNAME:Eastern Daylight Time
END:DAYLIGHT
BEGIN:STANDARD
RRULE:FREQ=YEARLY;BYMONTH=11;BYDAY=1SU
DTSTART:20070101T000000
TZOFFSETFROM:-0400
TZOFFSETTO:-0500
TZNAME:Eastern Standard Time
END:STANDARD
END:VTIMEZONE
BEGIN:VEVENT
DTSTART;TZID=America/New_York:20260505T083000
DTEND;TZID=America/New_York:20260505T220000
X-MICROSOFT-CDO-ALLDAYEVENT:FALSE
SUMMARY:A.M. BEAST ☀️ – Business Networking\, Breakfast\, Biz Card Exchange
DESCRIPTION:A.M. BEAST ☀️ – Business Networking\, Breakfast\, Biz Card Exchange\nAM The Networking Beast Experience\n\nThis Months Schedule: MAY 5 th\, May12th\, & May 19th\n\n1st\, 2nd\, 3rd TUESDAY of the MONTH\n\nStart your day with connections\, inspiration\, and opportunity.\nEveryone wins at The Networking Beast.\n\n📍 Location:\nBoca Chamber of Commerce\n1800 N Dixie Hwy\nBoca Raton\, FL 33432\n\n⏰ Time:\n8:30 AM – 10:00 AM\n\n🔁 RECURRING SCHEDULE:\n1ST\, 2ND\, AND 3RD TUESDAY OF EVERY MONTH\n\nThis Months Schedule: MAY 5 th\, May12th\, May 19th\n\n\n\n📣 EVENT DESCRIPTION\nYOU’RE INVITED TO A.M. BEAST ☀️\n\nJoin us for a high-energy morning networking experience designed for professionals\, entrepreneurs\, and business owners who want to start their day with purpose. So its just like the evening networking only its for the AM people! This is NOT your one per category type of morning meeting. Everyone comes and everyone connects! Expect lots of networking and connections. All industries are welcome.\n\nThis isn’t your typical networking event—this is where real relationships are built and business gets done. 🔥 A Powerful Start to Your Day!!!\n\n\n\n🎉 WHAT TO EXPECT\n👥 Open Networking & Socializing (Arrival Session)\n🌅 Morning Coffee & Light Breakfast\n🤝 High-Quality Business Connections\n🎤 15-Minute Featured Presenter (Different one every week)\n⏱️ 20-Second Elevator Pitch (Everyone Gets the Floor!)\n🔁 Final Networking Session (Wrap-Up & Deeper Connections)\n\n👥 WHO SHOULD ATTEND\nBusiness Owners\nEntrepreneurs\nRealtors & Mortgage Professionals\nService Providers\nAnyone Looking to Grow Their Network\nBring a friend\, make new connections\, and plug into one of Florida’s fastest-growing networking communities.\nSpots are limited—reserve yours now.
X-ALT-DESC;FMTTYPE=text/html:A.M. BEAST ☀️ – Business Networking\, Breakfast\, Biz Card Exchange\nAM The Networking Beast Experience\n\nThis Months Schedule: MAY 5 th\, May12th\, & May 19th\n\n1st\, 2nd\, 3rd TUESDAY of the MONTH\n\nStart your day with connections\, inspiration\, and opportunity.\nEveryone wins at The Networking Beast.\n\n📍 Location:\nBoca Chamber of Commerce\n1800 N Dixie Hwy\nBoca Raton\, FL 33432\n\n⏰ Time:\n8:30 AM – 10:00 AM\n\n🔁 RECURRING SCHEDULE:\n1ST\, 2ND\, AND 3RD TUESDAY OF EVERY MONTH\n\nThis Months Schedule: MAY 5 th\, May12th\, May 19th\n\n\n\n📣 EVENT DESCRIPTION\nYOU’RE INVITED TO A.M. BEAST ☀️\n\nJoin us for a high-energy morning networking experience designed for professionals\, entrepreneurs\, and business owners who want to start their day with purpose. So its just like the evening networking only its for the AM people! This is NOT your one per category type of morning meeting. Everyone comes and everyone connects! Expect lots of networking and connections. All industries are welcome.\n\nThis isn’t your typical networking event—this is where real relationships are built and business gets done. 🔥 A Powerful Start to Your Day!!!\n\n\n\n🎉 WHAT TO EXPECT\n👥 Open Networking & Socializing (Arrival Session)\n🌅 Morning Coffee & Light Breakfast\n🤝 High-Quality Business Connections\n🎤 15-Minute Featured Presenter (Different one every week)\n⏱️ 20-Second Elevator Pitch (Everyone Gets the Floor!)\n🔁 Final Networking Session (Wrap-Up & Deeper Connections)\n\n👥 WHO SHOULD ATTEND\nBusiness Owners\nEntrepreneurs\nRealtors & Mortgage Professionals\nService Providers\nAnyone Looking to Grow Their Network\nBring a friend\, make new connections\, and plug into one of Florida’s fastest-growing networking communities.\nSpots are limited—reserve yours now.
LOCATION:1800 N Dixie Hwy Boca Raton FL 33432
UID:e.4383.1447921
SEQUENCE:3
DTSTAMP:20260421T204000Z
URL:https://business.bocachamber.com/boyntoneventcalendar/Details/a-m-beast-business-networking-breakfast-biz-card-exchange-1714860?sourceTypeId=Hub
END:VEVENT
END:VCALENDAR
