BEGIN:VCALENDAR
VERSION:2.0
PRODID:-//ChamberMaster//Event Calendar 2.0//EN
METHOD:PUBLISH
X-PUBLISHED-TTL:P1H
REFRESH-INTERVAL:P1H
CALSCALE:GREGORIAN
BEGIN:VTIMEZONE
TZID:America/New_York
BEGIN:DAYLIGHT
RRULE:FREQ=YEARLY;BYMONTH=3;BYDAY=2SU
DTSTART:20070101T000000
TZOFFSETFROM:-0500
TZOFFSETTO:-0400
TZNAME:Eastern Daylight Time
END:DAYLIGHT
BEGIN:STANDARD
RRULE:FREQ=YEARLY;BYMONTH=11;BYDAY=1SU
DTSTART:20070101T000000
TZOFFSETFROM:-0400
TZOFFSETTO:-0500
TZNAME:Eastern Standard Time
END:STANDARD
END:VTIMEZONE
BEGIN:VEVENT
DTSTART;TZID=America/New_York:20260507T033000
DTEND;TZID=America/New_York:20260507T170000
X-MICROSOFT-CDO-ALLDAYEVENT:FALSE
SUMMARY:Ribbon-Cutting and Anniversary Celebration for Artis Senior Living of Boca Raton
DESCRIPTION:🎉 You're Invited! 🎉 Ribbon Cutting and 10-Year Anniversary Celebration for Artis Senior Living of Boca RatonJoin us for a special celebration as we honor 10 wonderful years of Artis Senior Living of Boca Raton\, serving our community! 📅 Date: May 7th 🕒 Time: 3:30 PM ✂️ Ribbon Cutting: 4:00 PM Experience this exceptional community dedicated to compassionate\, memory care-focused living. Enjoy connecting with their team\, networking with fellow guests\, and taking a firsthand look at their beautiful facility. 🍴 Food & Drinks 🎟️ Raffles & Giveaways 🚗 Parking: Valet parking will be available\, with additional parking in neighboring lots for your convenience. We look forward to celebrating with you!
X-ALT-DESC;FMTTYPE=text/html:<!DOCTYPE html><html><head><title></title></head><body aria-disabled="false" data-gr-ext-installed="" data-new-gr-c-s-check-loaded="14.1283.0" data-new-gr-c-s-loaded="14.1283.0"><p>🎉 You&rsquo\;re Invited! 🎉&nbsp\;</p><p style="margin: 0in\; font-size: 12pt\; font-family: Aptos\, sans-serif\; color: rgb(36\, 36\, 36)\; font-style: normal\; font-variant-ligatures: normal\; font-variant-caps: normal\; font-weight: 400\; letter-spacing: normal\; orphans: 2\; text-align: start\; text-indent: 0px\; text-transform: none\; widows: 2\; word-spacing: 0px\; -webkit-text-stroke-width: 0px\; white-space: normal\; background-color: rgb(255\, 255\, 255)\; text-decoration-thickness: initial\; text-decoration-style: initial\; text-decoration-color: initial\;"><span data-olk-copy-source="MessageBody" style='border: 0px\; font-style: inherit\; font-variant: inherit\; font-weight: inherit\; font-stretch: inherit\; font-size: 11pt\; line-height: inherit\; font-family: "Segoe UI Emoji"\, sans-serif\; font-optical-sizing: inherit\; font-size-adjust: inherit\; font-kerning: inherit\; font-feature-settings: inherit\; font-variation-settings: inherit\; font-language-override: inherit\; margin: 0px\; padding: 0px\; vertical-align: baseline\; color: inherit\;'>Ribbon Cutting and 10-Year Anniversary Celebration for Artis Senior Living of Boca Raton</span></p><p style="margin: 0in\; font-size: 12pt\; font-family: Aptos\, sans-serif\; color: rgb(36\, 36\, 36)\; font-style: normal\; font-variant-ligatures: normal\; font-variant-caps: normal\; font-weight: 400\; letter-spacing: normal\; orphans: 2\; text-align: start\; text-indent: 0px\; text-transform: none\; widows: 2\; word-spacing: 0px\; -webkit-text-stroke-width: 0px\; white-space: normal\; background-color: rgb(255\, 255\, 255)\; text-decoration-thickness: initial\; text-decoration-style: initial\; text-decoration-color: initial\;"><span style="border: 0px\; font-style: inherit\; font-variant: inherit\; font-weight: inherit\; font-stretch: inherit\; font-size: 11pt\; line-height: inherit\; font-family: inherit\; font-optical-sizing: inherit\; font-size-adjust: inherit\; font-kerning: inherit\; font-feature-settings: inherit\; font-variation-settings: inherit\; font-language-override: inherit\; margin: 0px\; padding: 0px\; vertical-align: baseline\; color: inherit\;">Join us for a special celebration as we honor 10 wonderful years of Artis Senior Living of Boca Raton\, serving our community!</span></p><p>&nbsp\;📅 Date: May 7th&nbsp\;</p><p>🕒 Time: 3:30 PM&nbsp\;</p><p>✂️ Ribbon Cutting: 4:00 PM&nbsp\;</p><p>Experience this exceptional community dedicated to compassionate\, memory care-focused living. Enjoy connecting with their team\, networking with fellow guests\, and taking a firsthand look at their beautiful facility.&nbsp\;</p><p>🍴 Food &amp\; Drinks 🎟️ Raffles &amp\; Giveaways&nbsp\;</p><p>🚗 Parking: Valet parking will be available\, with additional parking in neighboring lots for your convenience. We look forward to celebrating with you!</p></body></html>
LOCATION:5910 N. Federal Highway Boca Raton FL 33487
UID:e.4383.1436408
SEQUENCE:3
DTSTAMP:20260421T204301Z
URL:https://business.bocachamber.com/boyntoneventcalendar/Details/ribbon-cutting-and-anniversary-celebration-for-artis-senior-living-of-boca-raton-1700421?sourceTypeId=Hub
END:VEVENT
END:VCALENDAR
