BEGIN:VCALENDAR
VERSION:2.0
PRODID:-//ChamberMaster//Event Calendar 2.0//EN
METHOD:PUBLISH
X-PUBLISHED-TTL:P1H
REFRESH-INTERVAL:P1H
CALSCALE:GREGORIAN
BEGIN:VTIMEZONE
TZID:America/New_York
BEGIN:DAYLIGHT
RRULE:FREQ=YEARLY;BYMONTH=3;BYDAY=2SU
DTSTART:20070101T000000
TZOFFSETFROM:-0500
TZOFFSETTO:-0400
TZNAME:Eastern Daylight Time
END:DAYLIGHT
BEGIN:STANDARD
RRULE:FREQ=YEARLY;BYMONTH=11;BYDAY=1SU
DTSTART:20070101T000000
TZOFFSETFROM:-0400
TZOFFSETTO:-0500
TZNAME:Eastern Standard Time
END:STANDARD
END:VTIMEZONE
BEGIN:VEVENT
DTSTART;TZID=America/New_York:20260408T120000
DTEND;TZID=America/New_York:20260408T130000
X-MICROSOFT-CDO-ALLDAYEVENT:FALSE
SUMMARY:LEADS Group #3:TODAY'S MEETING WILL BE OFFSITE AT THE OUTBACK STEAKHOUSE RIBBON CUTTING (8841 GLADES RD - SAKS OFF FIFTH shopping ctr)
DESCRIPTION:A Chamber Leads Group is a member-exclusive networking and referral group focused on business growth through trusted relationships and the exchange of new business prospects and advice. Each group consists of non-competitive businesses\, ensuring industry exclusivity! To join a LEADS Group call the Chamber at (561) 395-4433.PLEASE  NOTE: TODAY'S MEETING WILL BE OFFSITE AT THE OUTBACK STEAKHOUSE RIBBON CUTTING (8841 GLADES RD - SAKS OFF FIFTH shopping ctr)
X-ALT-DESC;FMTTYPE=text/html:<!DOCTYPE html><html><head><title></title></head><body aria-disabled="false"><p>A Chamber Leads Group is a member-exclusive networking and referral group focused on business growth through trusted relationships and the exchange of new business prospects and advice. Each group consists of non-competitive businesses\, ensuring industry exclusivity! To join a LEADS Group call the Chamber at (561) 395-4433.</p><p>PLEASE &nbsp\;NOTE: TODAY&#39\;S MEETING WILL BE OFFSITE AT THE OUTBACK STEAKHOUSE RIBBON CUTTING (8841 GLADES RD - SAKS OFF FIFTH shopping ctr)</p></body></html>
LOCATION:1800 N. Dixie Highway Boca Raton FL 33432
UID:e.4383.1437115
SEQUENCE:3
DTSTAMP:20260421T204301Z
URL:https://business.bocachamber.com/boyntoneventcalendar/Details/leads-group-3-today-s-meeting-will-be-offsite-at-the-outback-steakhouse-ribbon-cutting-8841-glades-rd-saks-off-fifth-shopping-ctr-1529055?sourceTypeId=Hub
END:VEVENT
END:VCALENDAR
